BEGIN:VCALENDAR
VERSION:2.0
PRODID:Fietssport.nl
CALSCALE:GREGORIAN
BEGIN:VEVENT
DTSTART;TZID=Europe/Amsterdam:20240618T090000
DTEND;TZID=Europe/Amsterdam:20240621T150000
SUMMARY:Fiets4daagse Markelo 2024
URL:https://www.fietssport.nl/toertochten/55464
DESCRIPTION:Fiets4daagse Markelo 2024\n\ndinsdag 18 juni 2024\nGrand cafe de KroonTeats van Amerongenstraat 15\nMarkelo\n\nhttps://www.fietssport.nl/toertochten/55464
LOCATION:Markelo
BEGIN:VALARM
TRIGGER:-PT24H
DESCRIPTION:Herinnering - Fiets4daagse Markelo 2024
ACTION:DISPLAY
END:VALARM
END:VEVENT
END:VCALENDAR
