BEGIN:VCALENDAR
VERSION:2.0
PRODID:Fietssport.nl
CALSCALE:GREGORIAN
BEGIN:VEVENT
DTSTART;TZID=Europe/Amsterdam:20240625T090000
DTEND;TZID=Europe/Amsterdam:20240628T120000
SUMMARY:Internationale Fiets4daagse Winterswijk 2024
URL:https://www.fietssport.nl/toertochten/55157
DESCRIPTION:Internationale Fiets4daagse Winterswijk 2024\n\ndinsdag 25 juni 2024\nt Huitinkveld Bataafseweg 2a.\nWinterswijk\n\nhttps://www.fietssport.nl/toertochten/55157
LOCATION:Winterswijk
BEGIN:VALARM
TRIGGER:-PT24H
DESCRIPTION:Herinnering - Internationale Fiets4daagse Winterswijk 2024
ACTION:DISPLAY
END:VALARM
END:VEVENT
END:VCALENDAR
