BEGIN:VCALENDAR
VERSION:2.0
PRODID:Fietssport.nl
CALSCALE:GREGORIAN
BEGIN:VEVENT
DTSTART;TZID=Europe/Amsterdam:20261025T090000
DTEND;TZID=Europe/Amsterdam:20261025T100000
SUMMARY:Stratumse Heidetocht 2026 MTB
URL:https://www.fietssport.nl/toertochten/53996
DESCRIPTION:Stratumse Heidetocht 2026 MTB\n\nzondag 25 oktober 2026\nHeezerweg 452\nEindhoven\n\nhttps://www.fietssport.nl/toertochten/53996
LOCATION:Eindhoven
BEGIN:VALARM
TRIGGER:-PT24H
DESCRIPTION:Herinnering - Stratumse Heidetocht 2026 MTB
ACTION:DISPLAY
END:VALARM
END:VEVENT
END:VCALENDAR
